BEGIN:VCALENDAR
VERSION:2.0
PRODID:-//Plone.org//NONSGML plone.app.event//EN
X-WR-TIMEZONE:Europe/Berlin
BEGIN:VEVENT
SUMMARY:Seminario
DTSTART;TZID=Europe/Berlin:20260407T140000
DTEND;TZID=Europe/Berlin:20260407T150000
DTSTAMP:20260423T071114Z
UID:d4087ef942aa4d4980f27d2c1453a7ff@plone6.unife.it:8059
CREATED:20260331T094710Z
DESCRIPTION:Beyond the Cosmological Constant: The Dark Energy Quest\nSpeak
 er: Pietro Ghedini
LAST-MODIFIED:20260331T094716Z
URL:https://fst.unife.it/it/eventi/seminario-27
END:VEVENT
BEGIN:VTIMEZONE
TZID:Europe/Berlin
X-LIC-LOCATION:Europe/Berlin
BEGIN:DAYLIGHT
DTSTART:20260329T030000
TZNAME:CEST
TZOFFSETFROM:+0100
TZOFFSETTO:+0200
END:DAYLIGHT
END:VTIMEZONE
END:VCALENDAR
